BEGIN:VCALENDAR
PRODID:-//SINGPromos.com//NONSGML v1.0//EN
VERSION:2.0
CALSCALE:GREGORIAN
METHOD:PUBLISH
X-WR-CALNAME:SINGPromos.com
X-ORIGINAL-URL:https://singpromos.com
X-WR-CALDESC:Events for SINGPromos.com
BEGIN:VEVENT
DTSTART:20161118T000000
DTEND:20161120T235900
DTSTAMP:20260420T035756
CREATED:20161118T160328
LAST-MODIFIED:20161118T131014
UID:192360@https://singpromos.com
SUMMARY:Cristofori Music will be having a year-end warehouse sale from 18 - 20 Nov 2016
DESCRIPTION:Grab savings of up to 70% off at Cristofori Music's warehouse sale till 20 November 2016, 10am to 7pm daily. Free music door gift - no purchase required!. For more information, visit [ https://singpromos.com/warehouse-sales/cristofori-music-will-be-having-a-year-end-warehouse-sale-from-18-20-nov-2016-192360/ ]. 
LOCATION:489980
URL:https://singpromos.com/warehouse-sales/cristofori-music-will-be-having-a-year-end-warehouse-sale-from-18-20-nov-2016-192360/
END:VEVENT
END:VCALENDAR