BEGIN:VCALENDAR
PRODID:-//SINGPromos.com//NONSGML v1.0//EN
VERSION:2.0
CALSCALE:GREGORIAN
METHOD:PUBLISH
X-WR-CALNAME:SINGPromos.com
X-ORIGINAL-URL:https://singpromos.com
X-WR-CALDESC:Events for SINGPromos.com
BEGIN:VEVENT
DTSTART:20161118T000000
DTEND:20161130T235900
DTSTAMP:20260420T001543
CREATED:20161119T165939
LAST-MODIFIED:20161119T165939
UID:192453@https://singpromos.com
SUMMARY:Braun hair removal products offers at Tangs from 18 - 30 Nov 2016
DESCRIPTION:The NEW Braun Silk-expert IPL puts the intelligence into permanent visible hair removal. With Silk-expert IPL, Braun brings the Sonso Adapt™ technology to the comforts of your own home.. For more information, visit [ https://singpromos.com/personal-care/braun-hair-removal-products-offers-at-tangs-from-18-30-nov-2016-192453/ ]. 
LOCATION:238864
URL:https://singpromos.com/personal-care/braun-hair-removal-products-offers-at-tangs-from-18-30-nov-2016-192453/
END:VEVENT
END:VCALENDAR