BEGIN:VCALENDAR
PRODID:-//SINGPromos.com//NONSGML v1.0//EN
VERSION:2.0
CALSCALE:GREGORIAN
METHOD:PUBLISH
X-WR-CALNAME:SINGPromos.com
X-ORIGINAL-URL:https://singpromos.com
X-WR-CALDESC:Events for SINGPromos.com
BEGIN:VEVENT
DTSTART:20111118T000000
DTEND:20111130T235900
DTSTAMP:20260422T082145
CREATED:20111119T222835
LAST-MODIFIED:20111119T222835
UID:19271@https://singpromos.com
SUMMARY:Nature's Farm's Pre-Christmas Specials 18 - 30 Nov 2011
DESCRIPTION:Here is Nature's Farm latest pre-Christmas promotion for their health products, valid from 18 November till 30 November 2011. For more information, visit [ https://singpromos.com/health/natures-farms-pre-christmas-specials-18-30-nov-2011-19271/ ]. 
LOCATION:
URL:https://singpromos.com/health/natures-farms-pre-christmas-specials-18-30-nov-2011-19271/
END:VEVENT
END:VCALENDAR