BEGIN:VCALENDAR
PRODID:-//SINGPromos.com//NONSGML v1.0//EN
VERSION:2.0
CALSCALE:GREGORIAN
METHOD:PUBLISH
X-WR-CALNAME:SINGPromos.com
X-ORIGINAL-URL:https://singpromos.com
X-WR-CALDESC:Events for SINGPromos.com
BEGIN:VEVENT
DTSTART:20161123T000000
DTEND:20161124T235900
DTSTAMP:20260420T034412
CREATED:20161123T002500
LAST-MODIFIED:20161123T002500
UID:192799@https://singpromos.com
SUMMARY:Groupon: 10% OFF ALL Local Deals NO Min Spend Promo Coupon Code from 23 - 24 Nov 2016
DESCRIPTION:Get 10% off ALL local deals with the promo code below at checkout at Groupon Singapore. The promo code is valid on local deals only.. For more information, visit [ https://singpromos.com/department-stores/groupon-10-off-all-local-deals-no-min-spend-promo-coupon-code-from-23-24-nov-2016-192799/ ]. 
LOCATION:
URL:https://singpromos.com/department-stores/groupon-10-off-all-local-deals-no-min-spend-promo-coupon-code-from-23-24-nov-2016-192799/
END:VEVENT
END:VCALENDAR