BEGIN:VCALENDAR
PRODID:-//SINGPromos.com//NONSGML v1.0//EN
VERSION:2.0
CALSCALE:GREGORIAN
METHOD:PUBLISH
X-WR-CALNAME:SINGPromos.com
X-ORIGINAL-URL:https://singpromos.com
X-WR-CALDESC:Events for SINGPromos.com
BEGIN:VEVENT
DTSTART:20161125T000000
DTEND:20161128T235900
DTSTAMP:20260420T034321
CREATED:20161125T130005
LAST-MODIFIED:20161125T130005
UID:193246@https://singpromos.com
SUMMARY:Groupon: Up to 38% OFF Selected Deals (NO Min Spend) Black Friday Promo Code on from 25 - 28 Nov 2016
DESCRIPTION:Get up to 38% off selected deals with the promo code below at checkout at Groupon Singapore. Valid only for selected Dining & Goods, Travel, Leisure & Services, Beauty, Special deals. For more information, visit [ https://singpromos.com/department-stores/groupon-up-to-38-off-selected-deals-no-min-spend-black-friday-promo-code-on-from-25-28-nov-2016-193246/ ]. 
LOCATION:
URL:https://singpromos.com/department-stores/groupon-up-to-38-off-selected-deals-no-min-spend-black-friday-promo-code-on-from-25-28-nov-2016-193246/
END:VEVENT
END:VCALENDAR