BEGIN:VCALENDAR
PRODID:-//SINGPromos.com//NONSGML v1.0//EN
VERSION:2.0
CALSCALE:GREGORIAN
METHOD:PUBLISH
X-WR-CALNAME:SINGPromos.com
X-ORIGINAL-URL:https://singpromos.com
X-WR-CALDESC:Events for SINGPromos.com
BEGIN:VEVENT
DTSTART:20161126T000000
DTEND:20161126T235900
DTSTAMP:20260422T082322
CREATED:20161126T141248
LAST-MODIFIED:20161126T141430
UID:193398@https://singpromos.com
SUMMARY:Google Chromecast 2 (2015 Version) for $53 with Qoo10's Black Friday Deal on 26 Nov 2016
DESCRIPTION:Get the Google Chromecast 2 (2015 latest version) at $53 (inc shipping). With Chromecast, you can easily enjoy your favourite movies, TV shows, photos, and websites from YouTube, Google Play, Chrome and more on your TV.. For more information, visit [ https://singpromos.com/audio-visual/google-chromecast-2-2015-version-for-53-with-qoo10s-black-friday-deal-on-26-nov-2016-193398/ ]. 
LOCATION:
URL:https://singpromos.com/audio-visual/google-chromecast-2-2015-version-for-53-with-qoo10s-black-friday-deal-on-26-nov-2016-193398/
END:VEVENT
END:VCALENDAR