BEGIN:VCALENDAR
PRODID:-//SINGPromos.com//NONSGML v1.0//EN
VERSION:2.0
CALSCALE:GREGORIAN
METHOD:PUBLISH
X-WR-CALNAME:SINGPromos.com
X-ORIGINAL-URL:https://singpromos.com
X-WR-CALDESC:Events for SINGPromos.com
BEGIN:VEVENT
DTSTART:20161202T000000
DTEND:20161204T235900
DTSTAMP:20260420T003217
CREATED:20161201T173206
LAST-MODIFIED:20161201T173206
UID:193768@https://singpromos.com
SUMMARY:Baby Baby 2016 fair offers bottles trade-in, crazy buys, activities & more at Singapore Expo from 2 - 4 Dec 2016
DESCRIPTION:The year-end edition of Baby Baby 2016 is just around the corner! Whether you are a new parent or with a toddler in tow, there's something for you at Baby Baby.. For more information, visit [ https://singpromos.com/warehouse-sales/baby-baby-2016-fair-offers-bottles-trade-in-crazy-buys-activities-more-at-singapore-expo-from-2-4-dec-2016-193768/ ]. 
LOCATION:486150
URL:https://singpromos.com/warehouse-sales/baby-baby-2016-fair-offers-bottles-trade-in-crazy-buys-activities-more-at-singapore-expo-from-2-4-dec-2016-193768/
END:VEVENT
END:VCALENDAR