BEGIN:VCALENDAR
PRODID:-//SINGPromos.com//NONSGML v1.0//EN
VERSION:2.0
CALSCALE:GREGORIAN
METHOD:PUBLISH
X-WR-CALNAME:SINGPromos.com
X-ORIGINAL-URL:https://singpromos.com
X-WR-CALDESC:Events for SINGPromos.com
BEGIN:VEVENT
DTSTART:20161203T000000
DTEND:20161231T235900
DTSTAMP:20260420T034352
CREATED:20161203T001627
LAST-MODIFIED:20170101T074744
UID:193909@https://singpromos.com
SUMMARY:Save 5% to 10% off any deal at Groupon (NO min spend) with this promo code valid from 3 Dec 2016
DESCRIPTION:Get 5% to 10% off ANY deals with the promo code below at checkout at Groupon Singapore. Valid for any deal. Discount capped at $5. For more information, visit [ https://singpromos.com/department-stores/save-5-to-10-off-any-deal-at-groupon-no-min-spend-with-this-promo-code-valid-from-3-dec-2016-193909/ ]. 
LOCATION:
URL:https://singpromos.com/department-stores/save-5-to-10-off-any-deal-at-groupon-no-min-spend-with-this-promo-code-valid-from-3-dec-2016-193909/
END:VEVENT
END:VCALENDAR