BEGIN:VCALENDAR
PRODID:-//SINGPromos.com//NONSGML v1.0//EN
VERSION:2.0
CALSCALE:GREGORIAN
METHOD:PUBLISH
X-WR-CALNAME:SINGPromos.com
X-ORIGINAL-URL:https://singpromos.com
X-WR-CALDESC:Events for SINGPromos.com
BEGIN:VEVENT
DTSTART:20161208T000000
DTEND:20170108T235900
DTSTAMP:20260422T190334
CREATED:20161208T161758
LAST-MODIFIED:20161208T161758
UID:194218@https://singpromos.com
SUMMARY:Nikon digital cameras Christmas deals valid from 8 Dec 2016 - 8 Jan 2017
DESCRIPTION:I AM THE JOY OF GIVING. Give the joy of giving this Christmas with the latest deals from Nikon happening from 8 Dec 2016 - 8 Jan 2017.. For more information, visit [ https://singpromos.com/digital-cameras-dslr/nikon-digital-cameras-christmas-deals-valid-from-8-dec-2016-8-jan-2017-194218/ ]. 
LOCATION:
URL:https://singpromos.com/digital-cameras-dslr/nikon-digital-cameras-christmas-deals-valid-from-8-dec-2016-8-jan-2017-194218/
END:VEVENT
END:VCALENDAR