BEGIN:VCALENDAR
PRODID:-//SINGPromos.com//NONSGML v1.0//EN
VERSION:2.0
CALSCALE:GREGORIAN
METHOD:PUBLISH
X-WR-CALNAME:SINGPromos.com
X-ORIGINAL-URL:https://singpromos.com
X-WR-CALDESC:Events for SINGPromos.com
BEGIN:VEVENT
DTSTART:20161201T000000
DTEND:20161225T235900
DTSTAMP:20260420T055440
CREATED:20161208T171840
LAST-MODIFIED:20161208T171840
UID:194226@https://singpromos.com
SUMMARY:Experience a sparkling Christmas at One Raffles Place from 1 - 25 Dec 2016
DESCRIPTION:This Christmas, One Raffles Place welcomes shoppers with an irresistible array of shopping options, topping it off with exciting contests and fund raising activities.. For more information, visit [ https://singpromos.com/shopping-malls/experience-a-sparkling-christmas-at-one-raffles-place-from-1-25-dec-2016-194226/ ]. 
LOCATION:048616
URL:https://singpromos.com/shopping-malls/experience-a-sparkling-christmas-at-one-raffles-place-from-1-25-dec-2016-194226/
END:VEVENT
END:VCALENDAR