BEGIN:VCALENDAR
PRODID:-//SINGPromos.com//NONSGML v1.0//EN
VERSION:2.0
CALSCALE:GREGORIAN
METHOD:PUBLISH
X-WR-CALNAME:SINGPromos.com
X-ORIGINAL-URL:https://singpromos.com
X-WR-CALDESC:Events for SINGPromos.com
BEGIN:VEVENT
DTSTART:20161212T000000
DTEND:20161212T235900
DTSTAMP:20260420T034320
CREATED:20161212T002951
LAST-MODIFIED:20161212T123622
UID:194377@https://singpromos.com
SUMMARY:Groupon offers up to 60% OFF selected deals (NO Min Spend) with promo code on 12 Dec 2016
DESCRIPTION:Get up to 60% off selected deals with the promo code below at checkout at Groupon Singapore. Valid only for selected Dining & Goods, Travel, Leisure & Services, Beauty, Special deals. For more information, visit [ https://singpromos.com/department-stores/groupon-offers-up-to-60-off-selected-deals-no-min-spend-with-promo-code-from-12-18-dec-2016-194377/ ]. 
LOCATION:
URL:https://singpromos.com/department-stores/groupon-offers-up-to-60-off-selected-deals-no-min-spend-with-promo-code-from-12-18-dec-2016-194377/
END:VEVENT
END:VCALENDAR