BEGIN:VCALENDAR
PRODID:-//SINGPromos.com//NONSGML v1.0//EN
VERSION:2.0
CALSCALE:GREGORIAN
METHOD:PUBLISH
X-WR-CALNAME:SINGPromos.com
X-ORIGINAL-URL:https://singpromos.com
X-WR-CALDESC:Events for SINGPromos.com
BEGIN:VEVENT
DTSTART:20161216T000000
DTEND:20161216T235900
DTSTAMP:20260420T034352
CREATED:20161216T001941
LAST-MODIFIED:20161216T002150
UID:194637@https://singpromos.com
SUMMARY:Get 16% off sitewide at Groupon with NO min spend on 16 Dec 2016
DESCRIPTION:Get 16% off ANY deal with the promo code below at checkout at Groupon Singapore. Valid for any deal. Discount capped at $10. For more information, visit [ https://singpromos.com/department-stores/get-16-off-sitewide-at-groupon-with-no-min-spend-on-16-dec-2016-194637/ ]. 
LOCATION:
URL:https://singpromos.com/department-stores/get-16-off-sitewide-at-groupon-with-no-min-spend-on-16-dec-2016-194637/
END:VEVENT
END:VCALENDAR