BEGIN:VCALENDAR
PRODID:-//SINGPromos.com//NONSGML v1.0//EN
VERSION:2.0
CALSCALE:GREGORIAN
METHOD:PUBLISH
X-WR-CALNAME:SINGPromos.com
X-ORIGINAL-URL:https://singpromos.com
X-WR-CALDESC:Events for SINGPromos.com
BEGIN:VEVENT
DTSTART:20161216T000000
DTEND:20170101T235900
DTSTAMP:20260422T184513
CREATED:20161216T160501
LAST-MODIFIED:20161216T141113
UID:194683@https://singpromos.com
SUMMARY:ZWILLING J.A. Henckels offers at Takashimaya from 16 Dec 2016 - 1 Jan 2017
DESCRIPTION:Check out ZWILLING J.A. Henckels offers at Takashimaya now to Sunday 1 January 2017 at Household Department, B1. For more information, visit [ https://singpromos.com/kitchenware-cookware/zwilling-j-a-henckels-offers-at-takashimaya-from-16-dec-2016-1-jan-2017-194683/ ]. 
LOCATION:238873
URL:https://singpromos.com/kitchenware-cookware/zwilling-j-a-henckels-offers-at-takashimaya-from-16-dec-2016-1-jan-2017-194683/
END:VEVENT
END:VCALENDAR