BEGIN:VCALENDAR
PRODID:-//SINGPromos.com//NONSGML v1.0//EN
VERSION:2.0
CALSCALE:GREGORIAN
METHOD:PUBLISH
X-WR-CALNAME:SINGPromos.com
X-ORIGINAL-URL:https://singpromos.com
X-WR-CALDESC:Events for SINGPromos.com
BEGIN:VEVENT
DTSTART:20161228T000000
DTEND:20170101T235900
DTSTAMP:20260420T050918
CREATED:20161228T102350
LAST-MODIFIED:20161228T102350
UID:195205@https://singpromos.com
SUMMARY:Emirates special fares for Citibank cardmembers for travel from 1 - 28 Feb 2017. Book from 28 Dec 2016 - 1 Jan 2017
DESCRIPTION:From now till 1 Jan 2017, Citi Credit Cardmembers enjoy discount on Economy Class to your favourite destinations - Dubai, Paris, Vienna, Zurich, Barcelona, Rome, Athens, Cape town, Boston & Istanbul.. For more information, visit [ https://singpromos.com/airlines-flights/emirates-special-fares-for-citibank-cardmembers-for-travel-from-1-28-feb-2017-book-from-28-dec-2016-1-jan-2017-195205/ ]. 
LOCATION:
URL:https://singpromos.com/airlines-flights/emirates-special-fares-for-citibank-cardmembers-for-travel-from-1-28-feb-2017-book-from-28-dec-2016-1-jan-2017-195205/
END:VEVENT
END:VCALENDAR