BEGIN:VCALENDAR
PRODID:-//SINGPromos.com//NONSGML v1.0//EN
VERSION:2.0
CALSCALE:GREGORIAN
METHOD:PUBLISH
X-WR-CALNAME:SINGPromos.com
X-ORIGINAL-URL:https://singpromos.com
X-WR-CALDESC:Events for SINGPromos.com
BEGIN:VEVENT
DTSTART:20161230T000000
DTEND:20170102T235900
DTSTAMP:20260420T035902
CREATED:20161229T231003
LAST-MODIFIED:20161229T231003
UID:195316@https://singpromos.com
SUMMARY:Cristofori piano & other musical instruments warehouse sale from 30 Dec 2016 - 2 Jan 2017
DESCRIPTION:Grab savings of up to 70% off at Cristofori Music's warehouse sale from 30 Dec 2016 - 2 Jan 2017, 10am to 7pm daily.. For more information, visit [ https://singpromos.com/warehouse-sales/cristofori-piano-other-musical-instruments-warehouse-sale-from-30-dec-2016-2-jan-2017-195316/ ]. 
LOCATION:489980
URL:https://singpromos.com/warehouse-sales/cristofori-piano-other-musical-instruments-warehouse-sale-from-30-dec-2016-2-jan-2017-195316/
END:VEVENT
END:VCALENDAR