BEGIN:VCALENDAR
PRODID:-//SINGPromos.com//NONSGML v1.0//EN
VERSION:2.0
CALSCALE:GREGORIAN
METHOD:PUBLISH
X-WR-CALNAME:SINGPromos.com
X-ORIGINAL-URL:https://singpromos.com
X-WR-CALDESC:Events for SINGPromos.com
BEGIN:VEVENT
DTSTART:20170105T000000
DTEND:20170203T235900
DTSTAMP:20260420T055455
CREATED:20170106T202626
LAST-MODIFIED:20170106T202626
UID:196050@https://singpromos.com
SUMMARY:One Raffles Place Spring in the City Promotions & activities from 5 Jan - 3 Feb 2017
DESCRIPTION:One Raffles Place shopping mall welcomes the Year of the Rooster with exhilarating activities and promotions, ranging from live music by Strings! Quartet to appearances by Feng Shui Master Alec Chia.. For more information, visit [ https://singpromos.com/shopping-malls/one-raffles-place-spring-in-the-city-promotions-activities-from-5-jan-3-feb-2017-196050/ ]. 
LOCATION:048616
URL:https://singpromos.com/shopping-malls/one-raffles-place-spring-in-the-city-promotions-activities-from-5-jan-3-feb-2017-196050/
END:VEVENT
END:VCALENDAR