BEGIN:VCALENDAR
PRODID:-//SINGPromos.com//NONSGML v1.0//EN
VERSION:2.0
CALSCALE:GREGORIAN
METHOD:PUBLISH
X-WR-CALNAME:SINGPromos.com
X-ORIGINAL-URL:https://singpromos.com
X-WR-CALDESC:Events for SINGPromos.com
BEGIN:VEVENT
DTSTART:20170107T000000
DTEND:20170108T235900
DTSTAMP:20260420T015715
CREATED:20170107T003110
LAST-MODIFIED:20170107T003110
UID:196060@https://singpromos.com
SUMMARY:Save 8% off ALL goods deals at Groupon (NO Min Spend) with this promo code from 7 - 8 Jan 2017
DESCRIPTION:Get 8% off ALL goods deals with the promo code below at checkout at Groupon Singapore. The promo code is valid on goods deals only.. For more information, visit [ https://singpromos.com/department-stores/save-8-off-all-goods-deals-at-groupon-no-min-spend-with-this-promo-code-from-7-8-jan-2017-196060/ ]. 
LOCATION:
URL:https://singpromos.com/department-stores/save-8-off-all-goods-deals-at-groupon-no-min-spend-with-this-promo-code-from-7-8-jan-2017-196060/
END:VEVENT
END:VCALENDAR