BEGIN:VCALENDAR
PRODID:-//SINGPromos.com//NONSGML v1.0//EN
VERSION:2.0
CALSCALE:GREGORIAN
METHOD:PUBLISH
X-WR-CALNAME:SINGPromos.com
X-ORIGINAL-URL:https://singpromos.com
X-WR-CALDESC:Events for SINGPromos.com
BEGIN:VEVENT
DTSTART:20170107T000000
DTEND:20200105T235900
DTSTAMP:20260422T204218
CREATED:20170107T094754
LAST-MODIFIED:20190910T144512
UID:196063@https://singpromos.com
SUMMARY:Pizza Hut: Takeaway & save nearly 50% off pizzas with prices starting from $5!
DESCRIPTION:Order takeaway at Pizza Hut and enjoy nearly 50% off pizzas. Valid as of 1 January 2019.. For more information, visit [ https://singpromos.com/dining-restaurants-food/save-50-off-pizzas-at-pizza-hut-when-you-takeaway-from-7-jan-2017-196063/ ]. 
LOCATION:
URL:https://singpromos.com/dining-restaurants-food/save-50-off-pizzas-at-pizza-hut-when-you-takeaway-from-7-jan-2017-196063/
END:VEVENT
END:VCALENDAR