BEGIN:VCALENDAR
PRODID:-//SINGPromos.com//NONSGML v1.0//EN
VERSION:2.0
CALSCALE:GREGORIAN
METHOD:PUBLISH
X-WR-CALNAME:SINGPromos.com
X-ORIGINAL-URL:https://singpromos.com
X-WR-CALDESC:Events for SINGPromos.com
BEGIN:VEVENT
DTSTART:20170203T000000
DTEND:20170209T235900
DTSTAMP:20260422T082138
CREATED:20170110T080744
LAST-MODIFIED:20170109T211033
UID:196169@https://singpromos.com
SUMMARY:Timberland up to 70% off men's apparel & footwear at Shaw House from 3 - 9 Feb 2017
DESCRIPTION:Save up to 70% off Timberland men's apparel and footwear at Shaw House from 3 - 9 Feb 2017. For more information, visit [ https://singpromos.com/warehouse-sales/timberland-up-to-70-off-mens-apparel-footwear-at-shaw-house-from-3-9-feb-2017-196169/ ]. 
LOCATION:238868
URL:https://singpromos.com/warehouse-sales/timberland-up-to-70-off-mens-apparel-footwear-at-shaw-house-from-3-9-feb-2017-196169/
END:VEVENT
END:VCALENDAR