BEGIN:VCALENDAR
PRODID:-//SINGPromos.com//NONSGML v1.0//EN
VERSION:2.0
CALSCALE:GREGORIAN
METHOD:PUBLISH
X-WR-CALNAME:SINGPromos.com
X-ORIGINAL-URL:https://singpromos.com
X-WR-CALDESC:Events for SINGPromos.com
BEGIN:VEVENT
DTSTART:20170110T000000
DTEND:20170116T235900
DTSTAMP:20260422T082131
CREATED:20170110T125100
LAST-MODIFIED:20170110T224643
UID:196203@https://singpromos.com
SUMMARY:Qatar Airways promo fares for travel from Jan to Dec 2017. Book from 10 - 16 Jan 2017
DESCRIPTION:Get 2017 off to a flying start at the Qatar Airways Travel Festival. Join the festivities and enjoy exclusive offers on flights, hotels and car rentals to exciting destinations around the world.. For more information, visit [ https://singpromos.com/airlines-flights/qatar-airways-promo-fares-for-travel-from-jan-to-dec-2017-book-from-10-16-jan-2017-196203/ ]. 
LOCATION:
URL:https://singpromos.com/airlines-flights/qatar-airways-promo-fares-for-travel-from-jan-to-dec-2017-book-from-10-16-jan-2017-196203/
END:VEVENT
END:VCALENDAR