BEGIN:VCALENDAR
PRODID:-//SINGPromos.com//NONSGML v1.0//EN
VERSION:2.0
CALSCALE:GREGORIAN
METHOD:PUBLISH
X-WR-CALNAME:SINGPromos.com
X-ORIGINAL-URL:https://singpromos.com
X-WR-CALDESC:Events for SINGPromos.com
BEGIN:VEVENT
DTSTART:20170111T000000
DTEND:20170115T235900
DTSTAMP:20260422T082138
CREATED:20170110T130009
LAST-MODIFIED:20170110T172933
UID:196206@https://singpromos.com
SUMMARY:Rad Russel warehouse sale offers up to 80% discounts from 11 - 15 Jan 2017
DESCRIPTION:Rad Russel shoes reflect a London stylish design philosophy that contributes timeless elegance and enduring styles. They will be having a men and ladies' warehouse sale from 10 Jan to 15 Jan 2017 from 11am to 8pm.. For more information, visit [ https://singpromos.com/warehouse-sales/rad-russel-warehouse-sale-offers-up-to-80-discounts-from-11-15-jan-2017-196206/ ]. 
LOCATION:30 Tai Seng Street, 534013
URL:https://singpromos.com/warehouse-sales/rad-russel-warehouse-sale-offers-up-to-80-discounts-from-11-15-jan-2017-196206/
END:VEVENT
END:VCALENDAR