BEGIN:VCALENDAR
PRODID:-//SINGPromos.com//NONSGML v1.0//EN
VERSION:2.0
CALSCALE:GREGORIAN
METHOD:PUBLISH
X-WR-CALNAME:SINGPromos.com
X-ORIGINAL-URL:https://singpromos.com
X-WR-CALDESC:Events for SINGPromos.com
BEGIN:VEVENT
DTSTART:20170120T000000
DTEND:20170122T235900
DTSTAMP:20260420T015538
CREATED:20170120T001454
LAST-MODIFIED:20170120T001454
UID:196632@https://singpromos.com
SUMMARY:Save 5% to 25% OFF ALL Groupon Beauty, Leisure & Services, Dining Deals (NO Min Spend) promo code valid from 20 - 22 Jan 2017
DESCRIPTION:Get 5% to 25% off ALL Beauty, Leisure & Services, Dining deals with the promo code below at checkout at Groupon Singapore. Valid only for Beauty, Leisure & Services, Dining deals (Beauty 25%, Leisure & Services 15%, Dining 5%). For more information, visit [ https://singpromos.com/department-stores/save-5-to-25-off-all-groupon-beauty-leisure-services-dining-deals-no-min-spend-promo-code-valid-from-20-22-jan-2017-196632/ ]. 
LOCATION:
URL:https://singpromos.com/department-stores/save-5-to-25-off-all-groupon-beauty-leisure-services-dining-deals-no-min-spend-promo-code-valid-from-20-22-jan-2017-196632/
END:VEVENT
END:VCALENDAR