BEGIN:VCALENDAR
PRODID:-//SINGPromos.com//NONSGML v1.0//EN
VERSION:2.0
CALSCALE:GREGORIAN
METHOD:PUBLISH
X-WR-CALNAME:SINGPromos.com
X-ORIGINAL-URL:https://singpromos.com
X-WR-CALDESC:Events for SINGPromos.com
BEGIN:VEVENT
DTSTART:20111125T000000
DTEND:20111128T235900
DTSTAMP:20260424T000132
CREATED:20111127T032500
LAST-MODIFIED:20111127T032522
UID:19664@https://singpromos.com
SUMMARY:Precious Thots Pre-Christmas 7% Discount Sale 25 - 28 Nov 2011
DESCRIPTION:Precious Thots is having a Pre-Christmas sale with 7% discount in all their 22 stores islandwide. It is also having a promotion on Precious Moments Lavender Body Scrub & Moisturizing Creme Set.. For more information, visit [ https://singpromos.com/gifts-presents-hampers/precious-thots-pre-christmas-7-discount-sale-25-28-nov-2011-19664/ ]. 
LOCATION:
URL:https://singpromos.com/gifts-presents-hampers/precious-thots-pre-christmas-7-discount-sale-25-28-nov-2011-19664/
END:VEVENT
END:VCALENDAR