BEGIN:VCALENDAR
PRODID:-//SINGPromos.com//NONSGML v1.0//EN
VERSION:2.0
CALSCALE:GREGORIAN
METHOD:PUBLISH
X-WR-CALNAME:SINGPromos.com
X-ORIGINAL-URL:https://singpromos.com
X-WR-CALDESC:Events for SINGPromos.com
BEGIN:VEVENT
DTSTART:20170125T000000
DTEND:20170127T235900
DTSTAMP:20260420T015721
CREATED:20170125T014407
LAST-MODIFIED:20170125T014407
UID:196813@https://singpromos.com
SUMMARY:Groupon offers up to 38% off selected deals for two-days (NO Min Spend) from 25 - 27 Jan 2017
DESCRIPTION:Get up to 38% off selected deals with the promo code below at checkout at Groupon Singapore. Valid only for selected Dining, Goods, Travel, Leisure & Services and Beauty deals. For more information, visit [ https://singpromos.com/department-stores/groupon-offers-up-to-38-off-selected-deals-for-two-days-no-min-spend-from-25-27-jan-2017-196813/ ]. 
LOCATION:
URL:https://singpromos.com/department-stores/groupon-offers-up-to-38-off-selected-deals-for-two-days-no-min-spend-from-25-27-jan-2017-196813/
END:VEVENT
END:VCALENDAR