BEGIN:VCALENDAR
PRODID:-//SINGPromos.com//NONSGML v1.0//EN
VERSION:2.0
CALSCALE:GREGORIAN
METHOD:PUBLISH
X-WR-CALNAME:SINGPromos.com
X-ORIGINAL-URL:https://singpromos.com
X-WR-CALDESC:Events for SINGPromos.com
BEGIN:VEVENT
DTSTART:20170127T000000
DTEND:20170131T235900
DTSTAMP:20260422T082238
CREATED:20170126T134219
LAST-MODIFIED:20170127T004823
UID:196894@https://singpromos.com
SUMMARY:StarHub TV free preview of over 150 channels for existing customers from 27 - 31 Jan 2017
DESCRIPTION:Catch the free preview of over 150 StarHub TV channels from 27 Jan, 12pm till 31 Jan, 12pm. Valid only for existing customers with Starhub TV boxes.. For more information, visit [ https://singpromos.com/telecoms/starhub-tv-free-preview-of-over-150-channels-for-existing-customers-from-27-31-jan-2017-196894/ ]. 
LOCATION:
URL:https://singpromos.com/telecoms/starhub-tv-free-preview-of-over-150-channels-for-existing-customers-from-27-31-jan-2017-196894/
END:VEVENT
END:VCALENDAR