BEGIN:VCALENDAR
PRODID:-//SINGPromos.com//NONSGML v1.0//EN
VERSION:2.0
CALSCALE:GREGORIAN
METHOD:PUBLISH
X-WR-CALNAME:SINGPromos.com
X-ORIGINAL-URL:https://singpromos.com
X-WR-CALDESC:Events for SINGPromos.com
BEGIN:VEVENT
DTSTART:20170126T000000
DTEND:20170212T235900
DTSTAMP:20260422T082110
CREATED:20170126T165117
LAST-MODIFIED:20170126T165117
UID:196908@https://singpromos.com
SUMMARY:Creative Store offers $18 to $58 off storewide with coupon code from 26 Jan - 12 Feb 2017
DESCRIPTION:Get $18 to $58 off storewide at the online Creative Store - Speakers, Web Cameras, MP3 Players, Headphones, Gaming Headsets, Accessories, Sound Blaster and more. For more information, visit [ https://singpromos.com/audio-visual/creative-store-offers-18-to-58-off-storewide-with-coupon-code-from-26-jan-12-feb-2017-196908/ ]. 
LOCATION:
URL:https://singpromos.com/audio-visual/creative-store-offers-18-to-58-off-storewide-with-coupon-code-from-26-jan-12-feb-2017-196908/
END:VEVENT
END:VCALENDAR