BEGIN:VCALENDAR
PRODID:-//SINGPromos.com//NONSGML v1.0//EN
VERSION:2.0
CALSCALE:GREGORIAN
METHOD:PUBLISH
X-WR-CALNAME:SINGPromos.com
X-ORIGINAL-URL:https://singpromos.com
X-WR-CALDESC:Events for SINGPromos.com
BEGIN:VEVENT
DTSTART:20170202T000000
DTEND:20170202T235900
DTSTAMP:20260422T082107
CREATED:20170126T222610
LAST-MODIFIED:20170126T222610
UID:196919@https://singpromos.com
SUMMARY:SaSa one-day private sale returns with up to 80% off storewide at five selected stores on 2 Feb 2017
DESCRIPTION:SaSa will be having a Private Sale exclusively for Sasa Members, DBS/POSB Cardmembers, Grab Users & HubTreats Customers on 2 Feb. Save up to 80% OFF STOREWIDE* plus #GRAB your way home with $5 off, limited to the first 200 shoppers* per store.. For more information, visit [ https://singpromos.com/department-stores/sasa-one-day-private-sale-returns-with-up-to-80-off-storewide-at-five-selected-stores-on-2-feb-2017-196919/ ]. 
LOCATION:648886
URL:https://singpromos.com/department-stores/sasa-one-day-private-sale-returns-with-up-to-80-off-storewide-at-five-selected-stores-on-2-feb-2017-196919/
END:VEVENT
END:VCALENDAR