BEGIN:VCALENDAR
PRODID:-//SINGPromos.com//NONSGML v1.0//EN
VERSION:2.0
CALSCALE:GREGORIAN
METHOD:PUBLISH
X-WR-CALNAME:SINGPromos.com
X-ORIGINAL-URL:https://singpromos.com
X-WR-CALDESC:Events for SINGPromos.com
BEGIN:VEVENT
DTSTART:20170130T000000
DTEND:20170226T235900
DTSTAMP:20260422T082152
CREATED:20170130T145240
LAST-MODIFIED:20170130T145436
UID:196998@https://singpromos.com
SUMMARY:Save up to $100 with IKEA's latest monthly promo offers from 30 Jan - 26 Feb 2017
DESCRIPTION:Enjoy discounts you can take advantage of as a member of IKEA Family (membership is free). If you are not a member, sign-up for free as an IKEA FAMILY member in the store to get your Temporary Card before making your purchase.. For more information, visit [ https://singpromos.com/department-stores/save-up-to-100-with-ikeas-latest-monthly-promo-offers-from-30-jan-26-feb-2017-196998/ ]. 
LOCATION:
URL:https://singpromos.com/department-stores/save-up-to-100-with-ikeas-latest-monthly-promo-offers-from-30-jan-26-feb-2017-196998/
END:VEVENT
END:VCALENDAR