BEGIN:VCALENDAR
PRODID:-//SINGPromos.com//NONSGML v1.0//EN
VERSION:2.0
CALSCALE:GREGORIAN
METHOD:PUBLISH
X-WR-CALNAME:SINGPromos.com
X-ORIGINAL-URL:https://singpromos.com
X-WR-CALDESC:Events for SINGPromos.com
BEGIN:VEVENT
DTSTART:20170130T000000
DTEND:20170219T235900
DTSTAMP:20260422T082305
CREATED:20170130T004511
LAST-MODIFIED:20170130T004511
UID:197005@https://singpromos.com
SUMMARY:Grab a 3D2N vacation fr $90/pax (Hotel + Flights + Taxes) with Air Asia Go's latest promo valid from 30 Jan - 19 Feb 2017
DESCRIPTION:Air Asia Go is having a Romantic Cities Sale featuring 3D2N Hotel + Flights + Tax from just S$90/pax. Destination: Thailand, Malaysia, Indonesia, South Korea, Japan & Cebu. For more information, visit [ https://singpromos.com/vacations/grab-a-3d2n-vacation-fr-90pax-hotel-flights-taxes-with-air-asia-gos-latest-promo-valid-from-30-jan-19-feb-2017-197005/ ]. 
LOCATION:
URL:https://singpromos.com/vacations/grab-a-3d2n-vacation-fr-90pax-hotel-flights-taxes-with-air-asia-gos-latest-promo-valid-from-30-jan-19-feb-2017-197005/
END:VEVENT
END:VCALENDAR