BEGIN:VCALENDAR
PRODID:-//SINGPromos.com//NONSGML v1.0//EN
VERSION:2.0
CALSCALE:GREGORIAN
METHOD:PUBLISH
X-WR-CALNAME:SINGPromos.com
X-ORIGINAL-URL:https://singpromos.com
X-WR-CALDESC:Events for SINGPromos.com
BEGIN:VEVENT
DTSTART:20170131T000000
DTEND:20170131T235900
DTSTAMP:20260422T082138
CREATED:20170130T140907
LAST-MODIFIED:20170130T140907
UID:197018@https://singpromos.com
SUMMARY:Fly fr $45 all-in to 22 destinations with Scoot's two-hour promo (7am to 9am) on 31 Jan 2017
DESCRIPTION:Escape the ordinary with Super Scootee. Picture yourself floating through the clouds to a perth-fect place! Wake up at 7am tomorrow and capture the sale to one of the most photographic hotspots down under with Scoot's sale tomorrow, at 7am.. For more information, visit [ https://singpromos.com/airlines-flights/fly-fr-45-all-in-to-22-destinations-with-scoots-two-hour-promo-7am-to-9am-on-31-jan-2017-197018/ ]. 
LOCATION:
URL:https://singpromos.com/airlines-flights/fly-fr-45-all-in-to-22-destinations-with-scoots-two-hour-promo-7am-to-9am-on-31-jan-2017-197018/
END:VEVENT
END:VCALENDAR