BEGIN:VCALENDAR
PRODID:-//SINGPromos.com//NONSGML v1.0//EN
VERSION:2.0
CALSCALE:GREGORIAN
METHOD:PUBLISH
X-WR-CALNAME:SINGPromos.com
X-ORIGINAL-URL:https://singpromos.com
X-WR-CALDESC:Events for SINGPromos.com
BEGIN:VEVENT
DTSTART:20170131T000000
DTEND:20170131T235900
DTSTAMP:20260422T082150
CREATED:20170131T102418
LAST-MODIFIED:20170131T102418
UID:197028@https://singpromos.com
SUMMARY:Qoo10 is giving away free $20 & $50 cart coupons for one-day only on 31 Jan 2017
DESCRIPTION:Qoo10 is running a Fantastic Rewards promotion featuring free cart coupons worth $20 & $50. Coupons are only available during the Event Period stated. For more information, visit [ https://singpromos.com/department-stores/qoo10-is-giving-away-free-20-50-cart-coupons-for-one-day-only-on-31-jan-2017-197028/ ]. 
LOCATION:
URL:https://singpromos.com/department-stores/qoo10-is-giving-away-free-20-50-cart-coupons-for-one-day-only-on-31-jan-2017-197028/
END:VEVENT
END:VCALENDAR