BEGIN:VCALENDAR
PRODID:-//SINGPromos.com//NONSGML v1.0//EN
VERSION:2.0
CALSCALE:GREGORIAN
METHOD:PUBLISH
X-WR-CALNAME:SINGPromos.com
X-ORIGINAL-URL:https://singpromos.com
X-WR-CALDESC:Events for SINGPromos.com
BEGIN:VEVENT
DTSTART:20170201T000000
DTEND:20170204T235900
DTSTAMP:20260420T015624
CREATED:20170201T001234
LAST-MODIFIED:20170201T002413
UID:197068@https://singpromos.com
SUMMARY:Groupon offers up to 38% off selected deals (NO Min Spend) from 1 - 4 Feb 2017
DESCRIPTION:Get up to 38% off selected deals with the promo code below at checkout at Groupon Singapore. Valid only for selected Dining, Goods, Travel, Leisure & Services and Beauty deals. For more information, visit [ https://singpromos.com/department-stores/groupon-offers-up-to-38-off-selected-deals-no-min-spend-from-1-4-feb-2017-197068/ ]. 
LOCATION:
URL:https://singpromos.com/department-stores/groupon-offers-up-to-38-off-selected-deals-no-min-spend-from-1-4-feb-2017-197068/
END:VEVENT
END:VCALENDAR