BEGIN:VCALENDAR
PRODID:-//SINGPromos.com//NONSGML v1.0//EN
VERSION:2.0
CALSCALE:GREGORIAN
METHOD:PUBLISH
X-WR-CALNAME:SINGPromos.com
X-ORIGINAL-URL:https://singpromos.com
X-WR-CALDESC:Events for SINGPromos.com
BEGIN:VEVENT
DTSTART:20170201T000000
DTEND:20170207T235900
DTSTAMP:20260420T074446
CREATED:20170203T013313
LAST-MODIFIED:20170203T013341
UID:197241@https://singpromos.com
SUMMARY:Emirates special Valentine's Day return fares fr $809 all-in to Paris & more for UOB cardholders. Book from 1 - 7 Feb 2017
DESCRIPTION:A romantic getaway is probably the best present one can gift their partners this Valentine's Day. Hop on the next flight on Emirates to visit the magical city of love, Paris and other destinations.. For more information, visit [ https://singpromos.com/airlines-flights/emirates-special-valentines-day-return-fares-fr-809-all-in-to-paris-more-for-uob-cardholders-book-from-1-7-feb-2017-197241/ ]. 
LOCATION:
URL:https://singpromos.com/airlines-flights/emirates-special-valentines-day-return-fares-fr-809-all-in-to-paris-more-for-uob-cardholders-book-from-1-7-feb-2017-197241/
END:VEVENT
END:VCALENDAR