BEGIN:VCALENDAR
PRODID:-//SINGPromos.com//NONSGML v1.0//EN
VERSION:2.0
CALSCALE:GREGORIAN
METHOD:PUBLISH
X-WR-CALNAME:SINGPromos.com
X-ORIGINAL-URL:https://singpromos.com
X-WR-CALDESC:Events for SINGPromos.com
BEGIN:VEVENT
DTSTART:20170205T000000
DTEND:20170216T235900
DTSTAMP:20260420T015625
CREATED:20170205T120333
LAST-MODIFIED:20170217T113343
UID:197318@https://singpromos.com
SUMMARY:Bakerzin - $24 to $28 for a $40 cash voucher deal redeemable at 5 outlets from 5 Feb 2017
DESCRIPTION:From its humble beginnings in 1998 as a modest patisserie supplying French bread and pastries to restaurants and hotels, Bakerzin has since grown into a franchise with multiple shop locations selling French baked goods, desserts and savoury dishes.. For more information, visit [ https://singpromos.com/dining-restaurants-food/bakerzin-pay-24-to-28-for-a-40-cash-voucher-deal-redeemable-at-5-outlets-from-5-feb-2017-197318/ ]. 
LOCATION:
URL:https://singpromos.com/dining-restaurants-food/bakerzin-pay-24-to-28-for-a-40-cash-voucher-deal-redeemable-at-5-outlets-from-5-feb-2017-197318/
END:VEVENT
END:VCALENDAR