BEGIN:VCALENDAR
PRODID:-//SINGPromos.com//NONSGML v1.0//EN
VERSION:2.0
CALSCALE:GREGORIAN
METHOD:PUBLISH
X-WR-CALNAME:SINGPromos.com
X-ORIGINAL-URL:https://singpromos.com
X-WR-CALDESC:Events for SINGPromos.com
BEGIN:VEVENT
DTSTART:20170209T000000
DTEND:20170214T235900
DTSTAMP:20260422T082309
CREATED:20170208T200344
LAST-MODIFIED:20170209T121645
UID:197513@https://singpromos.com
SUMMARY:Ben & Jerry's offers 1-for-1 scoops at all Scoop Shops from 9 - 14 Feb 2017
DESCRIPTION:To celebrate Valentine's Day, Ben & Jerry's is giving you two scoops for the price of one! Couples get 2 scoops for the price of one, while singles get their second scoop free.. For more information, visit [ https://singpromos.com/dining-restaurants-food/ben-jerrys-offers-1-for-1-scoops-at-all-scoop-shops-from-9-14-feb-2017-197513/ ]. 
LOCATION:
URL:https://singpromos.com/dining-restaurants-food/ben-jerrys-offers-1-for-1-scoops-at-all-scoop-shops-from-9-14-feb-2017-197513/
END:VEVENT
END:VCALENDAR