BEGIN:VCALENDAR
PRODID:-//SINGPromos.com//NONSGML v1.0//EN
VERSION:2.0
CALSCALE:GREGORIAN
METHOD:PUBLISH
X-WR-CALNAME:SINGPromos.com
X-ORIGINAL-URL:https://singpromos.com
X-WR-CALDESC:Events for SINGPromos.com
BEGIN:VEVENT
DTSTART:20170210T000000
DTEND:20170211T235900
DTSTAMP:20260419T213908
CREATED:20170208T210301
LAST-MODIFIED:20170208T232924
UID:197517@https://singpromos.com
SUMMARY:Chingay Parade 2017 at F1 Pit Building from 10 - 11 Feb 2017
DESCRIPTION:Chingay Parade 2017 will be held on Friday, 10 and Saturday, 11 February 2017, 8.00pm at F1 Pit Building, followed by a Chinatown Chap-Ngoh Mei & Chingay 2017 Night Fiesta on Sunday, 12 February 2017.. For more information, visit [ https://singpromos.com/happenings/chingay-parade-2017-at-f1-pit-building-from-10-11-feb-2017-197517/ ]. 
LOCATION:038975
URL:https://singpromos.com/happenings/chingay-parade-2017-at-f1-pit-building-from-10-11-feb-2017-197517/
END:VEVENT
END:VCALENDAR