BEGIN:VCALENDAR
PRODID:-//SINGPromos.com//NONSGML v1.0//EN
VERSION:2.0
CALSCALE:GREGORIAN
METHOD:PUBLISH
X-WR-CALNAME:SINGPromos.com
X-ORIGINAL-URL:https://singpromos.com
X-WR-CALDESC:Events for SINGPromos.com
BEGIN:VEVENT
DTSTART:20170209T000000
DTEND:20170302T235900
DTSTAMP:20260420T045100
CREATED:20170209T212143
LAST-MODIFIED:20170209T212228
UID:197591@https://singpromos.com
SUMMARY:British Airways NATAS travel fair promotion fares valid from 9 Feb - 2 Mar 2017
DESCRIPTION:British Airways is offering special fares at this year's NATAS Travel Fair with a list of unforgettable destinations for all kinds of traveller in 2017.. For more information, visit [ https://singpromos.com/airlines-flights/british-airways-natas-travel-fair-promotion-fares-valid-from-9-feb-2-mar-2017-197591/ ]. 
LOCATION:
URL:https://singpromos.com/airlines-flights/british-airways-natas-travel-fair-promotion-fares-valid-from-9-feb-2-mar-2017-197591/
END:VEVENT
END:VCALENDAR