BEGIN:VCALENDAR
PRODID:-//SINGPromos.com//NONSGML v1.0//EN
VERSION:2.0
CALSCALE:GREGORIAN
METHOD:PUBLISH
X-WR-CALNAME:SINGPromos.com
X-ORIGINAL-URL:https://singpromos.com
X-WR-CALDESC:Events for SINGPromos.com
BEGIN:VEVENT
DTSTART:20170211T000000
DTEND:20170212T235900
DTSTAMP:20260420T042602
CREATED:20170210T184333
LAST-MODIFIED:20170210T184345
UID:197654@https://singpromos.com
SUMMARY:ASA Holidays Power Packed travel fair at Suntec City Mall from 11 - 12 Feb 2017
DESCRIPTION:ASA Holidays's biannual Power Packed Fair is here again! If you are looking for your holiday, visit them at Suntec City Mall West Atrium for the latest travel deals. S. For more information, visit [ https://singpromos.com/happenings/asa-holidays-power-packed-travel-fair-at-suntec-city-mall-from-11-12-feb-2017-197654/ ]. 
LOCATION:038983
URL:https://singpromos.com/happenings/asa-holidays-power-packed-travel-fair-at-suntec-city-mall-from-11-12-feb-2017-197654/
END:VEVENT
END:VCALENDAR