BEGIN:VCALENDAR
PRODID:-//SINGPromos.com//NONSGML v1.0//EN
VERSION:2.0
CALSCALE:GREGORIAN
METHOD:PUBLISH
X-WR-CALNAME:SINGPromos.com
X-ORIGINAL-URL:https://singpromos.com
X-WR-CALDESC:Events for SINGPromos.com
BEGIN:VEVENT
DTSTART:20170213T000000
DTEND:20170331T235900
DTSTAMP:20260420T060426
CREATED:20170213T145433
LAST-MODIFIED:20170213T145705
UID:197733@https://singpromos.com
SUMMARY:Canton Paradise offers 50% off all dim sum, congee & noodles during tea time on weekdays from 13 Feb 2017
DESCRIPTION:Canton Paradise's 50% off Yum Cha promotion is BACK by popular demand! From 13th February onwards, diners can enjoy all Dim Sum, Congee & Noodles* at half price when they dine in at any six Canton Paradise outlets on weekdays, 3pm to 5pm.. For more information, visit [ https://singpromos.com/dining-restaurants-food/canton-paradise-offers-50-off-all-dim-sum-congee-noodles-during-tea-time-on-weekdays-from-13-feb-2017-197733/ ]. 
LOCATION:
URL:https://singpromos.com/dining-restaurants-food/canton-paradise-offers-50-off-all-dim-sum-congee-noodles-during-tea-time-on-weekdays-from-13-feb-2017-197733/
END:VEVENT
END:VCALENDAR