BEGIN:VCALENDAR
PRODID:-//SINGPromos.com//NONSGML v1.0//EN
VERSION:2.0
CALSCALE:GREGORIAN
METHOD:PUBLISH
X-WR-CALNAME:SINGPromos.com
X-ORIGINAL-URL:https://singpromos.com
X-WR-CALDESC:Events for SINGPromos.com
BEGIN:VEVENT
DTSTART:20170217T000000
DTEND:20170219T235900
DTSTAMP:20260420T042520
CREATED:20170215T161729
LAST-MODIFIED:20170215T161729
UID:197849@https://singpromos.com
SUMMARY:Chan Brothers Suntec Wanderlust Fair offers 1-for-1 travel deals & more from 17 - 19 Feb 2017
DESCRIPTION:Enjoy 1-for-1 deals, FREE flights for the 2nd traveller and more at Chan Brothers Suntec Wanderlust Fair from 17 - 19 Feb 2017. For more information, visit [ https://singpromos.com/happenings/chan-brothers-suntec-wanderlust-fair-offers-1-for-1-travel-deals-more-from-17-19-feb-2017-197849/ ]. 
LOCATION:038983
URL:https://singpromos.com/happenings/chan-brothers-suntec-wanderlust-fair-offers-1-for-1-travel-deals-more-from-17-19-feb-2017-197849/
END:VEVENT
END:VCALENDAR