BEGIN:VCALENDAR
PRODID:-//SINGPromos.com//NONSGML v1.0//EN
VERSION:2.0
CALSCALE:GREGORIAN
METHOD:PUBLISH
X-WR-CALNAME:SINGPromos.com
X-ORIGINAL-URL:https://singpromos.com
X-WR-CALDESC:Events for SINGPromos.com
BEGIN:VEVENT
DTSTART:20111128T000000
DTEND:20111128T235900
DTSTAMP:20260420T061853
CREATED:20111128T042935
LAST-MODIFIED:20111129T020246
UID:19791@https://singpromos.com
SUMMARY:Element 41% Off Christmas International Buffet Dinner @ Amara Singapore 28 Nov 2011
DESCRIPTION:Tuck into scrumptious fare this festive season such as oysters, Christmas turkey, fresh tiger prawns and more with this deal: $39 instead of $65.90 for Special Christmas International Buffet Dinner (incl drinks Free Flow, Oysters, Sashimi, Christmas Turkey, Macaroon & Log Cake) at Element, Amara Singapore - that's 41% off the usual price! Learn how to get this deal before it expires soon. For more information, visit [ https://singpromos.com/dining-restaurants-food/element-41-off-christmas-international-buffet-dinner-amara-singapore-28-nov-2011-19791/ ]. 
LOCATION:
URL:https://singpromos.com/dining-restaurants-food/element-41-off-christmas-international-buffet-dinner-amara-singapore-28-nov-2011-19791/
END:VEVENT
END:VCALENDAR