BEGIN:VCALENDAR
PRODID:-//SINGPromos.com//NONSGML v1.0//EN
VERSION:2.0
CALSCALE:GREGORIAN
METHOD:PUBLISH
X-WR-CALNAME:SINGPromos.com
X-ORIGINAL-URL:https://singpromos.com
X-WR-CALDESC:Events for SINGPromos.com
BEGIN:VEVENT
DTSTART:20170222T000000
DTEND:20170323T235900
DTSTAMP:20260420T042719
CREATED:20170221T183843
LAST-MODIFIED:20170221T183843
UID:198094@https://singpromos.com
SUMMARY:Tony Roma's $20 off for dine-in at Suntec valid from 22 Feb - 23 Mar 2017
DESCRIPTION:Enjoy $20 off your meal from 22 Feb to 23 March at Tony Roma's Suntec City outlet. Valid for dine-in only from Monday to Thursday. $20 off a minimum spend of $50++.. For more information, visit [ https://singpromos.com/dining-restaurants-food/tony-romas-20-off-for-dine-in-at-suntec-valid-from-22-feb-23-mar-2017-198094/ ]. 
LOCATION:038983
URL:https://singpromos.com/dining-restaurants-food/tony-romas-20-off-for-dine-in-at-suntec-valid-from-22-feb-23-mar-2017-198094/
END:VEVENT
END:VCALENDAR