BEGIN:VCALENDAR
PRODID:-//SINGPromos.com//NONSGML v1.0//EN
VERSION:2.0
CALSCALE:GREGORIAN
METHOD:PUBLISH
X-WR-CALNAME:SINGPromos.com
X-ORIGINAL-URL:https://singpromos.com
X-WR-CALDESC:Events for SINGPromos.com
BEGIN:VEVENT
DTSTART:20170223T000000
DTEND:20170224T235900
DTSTAMP:20260420T015715
CREATED:20170223T003054
LAST-MODIFIED:20170223T003054
UID:198157@https://singpromos.com
SUMMARY:Save 8% to 28% off ALL Groupon Beauty, Leisure & Services, Dining & Goods deals (NO Min Spend) promo code valid from 23 - 24 Feb 2017
DESCRIPTION:Get 8% to 28% off ALL Beauty, Leisure & Services, Dining & Goods deals with the promo code below at checkout at Groupon Singapore.. For more information, visit [ https://singpromos.com/department-stores/save-8-to-28-off-all-groupon-beauty-leisure-services-dining-goods-deals-no-min-spend-promo-code-valid-from-23-24-feb-2017-198157/ ]. 
LOCATION:
URL:https://singpromos.com/department-stores/save-8-to-28-off-all-groupon-beauty-leisure-services-dining-goods-deals-no-min-spend-promo-code-valid-from-23-24-feb-2017-198157/
END:VEVENT
END:VCALENDAR