BEGIN:VCALENDAR
PRODID:-//SINGPromos.com//NONSGML v1.0//EN
VERSION:2.0
CALSCALE:GREGORIAN
METHOD:PUBLISH
X-WR-CALNAME:SINGPromos.com
X-ORIGINAL-URL:https://singpromos.com
X-WR-CALDESC:Events for SINGPromos.com
BEGIN:VEVENT
DTSTART:20170302T000000
DTEND:20170303T235900
DTSTAMP:20260420T015715
CREATED:20170302T002754
LAST-MODIFIED:20170302T002754
UID:198529@https://singpromos.com
SUMMARY:Save 5% to 25% off ALL Groupon Beauty, Leisure & Services, Dining & Goods deals (NO Min Spend) promo code valid from 2 - 3 Mar 2017
DESCRIPTION:Get 5% to 25% off ALL Beauty, Leisure & Services, Dining & Goods deals with the promo code below at checkout at Groupon Singapore.. For more information, visit [ https://singpromos.com/department-stores/save-5-to-25-off-all-groupon-beauty-leisure-services-dining-goods-deals-no-min-spend-promo-code-valid-from-2-3-mar-2017-198529/ ]. 
LOCATION:
URL:https://singpromos.com/department-stores/save-5-to-25-off-all-groupon-beauty-leisure-services-dining-goods-deals-no-min-spend-promo-code-valid-from-2-3-mar-2017-198529/
END:VEVENT
END:VCALENDAR