BEGIN:VCALENDAR
PRODID:-//SINGPromos.com//NONSGML v1.0//EN
VERSION:2.0
CALSCALE:GREGORIAN
METHOD:PUBLISH
X-WR-CALNAME:SINGPromos.com
X-ORIGINAL-URL:https://singpromos.com
X-WR-CALDESC:Events for SINGPromos.com
BEGIN:VEVENT
DTSTART:20170306T000000
DTEND:20170310T235900
DTSTAMP:20260422T183645
CREATED:20170303T184132
LAST-MODIFIED:20170303T184132
UID:198686@https://singpromos.com
SUMMARY:Starbucks cardholders enjoy a buy-2-get-1-free beverage deal at all outlets from 6 - 10 Mar 2017
DESCRIPTION:Starbucks cardmembers will be credited with a free one-time use buy-2-get-1-free beverage treat reward for ANY-size beverages redeemable from 6 - 10 Mar 2017. For more information, visit [ https://singpromos.com/dining-restaurants-food/starbucks-cardholders-enjoy-a-buy-2-get-1-free-beverage-deal-at-all-outlets-from-6-10-mar-2017-198686/ ]. 
LOCATION:
URL:https://singpromos.com/dining-restaurants-food/starbucks-cardholders-enjoy-a-buy-2-get-1-free-beverage-deal-at-all-outlets-from-6-10-mar-2017-198686/
END:VEVENT
END:VCALENDAR