BEGIN:VCALENDAR
PRODID:-//SINGPromos.com//NONSGML v1.0//EN
VERSION:2.0
CALSCALE:GREGORIAN
METHOD:PUBLISH
X-WR-CALNAME:SINGPromos.com
X-ORIGINAL-URL:https://singpromos.com
X-WR-CALDESC:Events for SINGPromos.com
BEGIN:VEVENT
DTSTART:20170310T000000
DTEND:20170731T235900
DTSTAMP:20260422T082144
CREATED:20170307T143357
LAST-MODIFIED:20170307T144557
UID:198810@https://singpromos.com
SUMMARY:Goodwood Park Hotel's Durian Fiesta returns from 10 Mar - 31 Jul 2017
DESCRIPTION:Excite your palate with bold combinations and familiar favourites for this year's Durian Fiesta! A total of 14 premium confections using quality D24 and 'Mao Shan Wang' durians, will be presented over various periods at The Deli.. For more information, visit [ https://singpromos.com/dining-restaurants-food/goodwood-park-hotels-durian-fiesta-returns-from-10-mar-31-jul-2017-198810/ ]. 
LOCATION:228221
URL:https://singpromos.com/dining-restaurants-food/goodwood-park-hotels-durian-fiesta-returns-from-10-mar-31-jul-2017-198810/
END:VEVENT
END:VCALENDAR