BEGIN:VCALENDAR
PRODID:-//SINGPromos.com//NONSGML v1.0//EN
VERSION:2.0
CALSCALE:GREGORIAN
METHOD:PUBLISH
X-WR-CALNAME:SINGPromos.com
X-ORIGINAL-URL:https://singpromos.com
X-WR-CALDESC:Events for SINGPromos.com
BEGIN:VEVENT
DTSTART:20170309T000000
DTEND:20170310T235900
DTSTAMP:20260420T015751
CREATED:20170309T001149
LAST-MODIFIED:20170309T001149
UID:198982@https://singpromos.com
SUMMARY:Save 8% to 25% OFF ALL Groupon Beauty, Leisure & Services, Dining Deals (NO Min Spend) promo code valid from 9 - 10 Mar 2017
DESCRIPTION:Get 8% to 25% off ALL Beauty, Leisure & Services, Dining deals with the promo code below at checkout at Groupon Singapore. Valid only for Beauty, Leisure & Services, Dining deals (Beauty 25%, Leisure & Services 18%, Dining 8%). For more information, visit [ https://singpromos.com/department-stores/save-8-to-25-off-all-groupon-beauty-leisure-services-dining-deals-no-min-spend-promo-code-valid-from-9-10-mar-2017-198982/ ]. 
LOCATION:
URL:https://singpromos.com/department-stores/save-8-to-25-off-all-groupon-beauty-leisure-services-dining-deals-no-min-spend-promo-code-valid-from-9-10-mar-2017-198982/
END:VEVENT
END:VCALENDAR