BEGIN:VCALENDAR
PRODID:-//SINGPromos.com//NONSGML v1.0//EN
VERSION:2.0
CALSCALE:GREGORIAN
METHOD:PUBLISH
X-WR-CALNAME:SINGPromos.com
X-ORIGINAL-URL:https://singpromos.com
X-WR-CALDESC:Events for SINGPromos.com
BEGIN:VEVENT
DTSTART:20170311T000000
DTEND:20170312T235900
DTSTAMP:20260422T210838
CREATED:20170311T111938
LAST-MODIFIED:20170311T111938
UID:199125@https://singpromos.com
SUMMARY:Panasonic Warehouse Clearance up to 50% off at Courts Megastore from 11 - 12 Mar 2017
DESCRIPTION:Hurry down to COURTS Megastore from 11 - 12 March 2017 and enjoy exclusive discounts and offers at the Panasonic Warehouse Clearance!. For more information, visit [ https://singpromos.com/warehouse-sales/panasonic-warehouse-clearance-up-to-50-off-at-courts-megastore-from-11-12-mar-2017-199125/ ]. 
LOCATION:528766
URL:https://singpromos.com/warehouse-sales/panasonic-warehouse-clearance-up-to-50-off-at-courts-megastore-from-11-12-mar-2017-199125/
END:VEVENT
END:VCALENDAR