BEGIN:VCALENDAR
PRODID:-//SINGPromos.com//NONSGML v1.0//EN
VERSION:2.0
CALSCALE:GREGORIAN
METHOD:PUBLISH
X-WR-CALNAME:SINGPromos.com
X-ORIGINAL-URL:https://singpromos.com
X-WR-CALDESC:Events for SINGPromos.com
BEGIN:VEVENT
DTSTART:20170314T000000
DTEND:20170530T235900
DTSTAMP:20260422T204155
CREATED:20170314T123342
LAST-MODIFIED:20170314T123342
UID:199213@https://singpromos.com
SUMMARY:1-for-1 Lunch Main Course at Pool Grill at Singapore Marriott Tang Plaza Hotel (Mon - Thur) for Singtel customers from 14 Mar - 30 May 2017
DESCRIPTION:Enjoy 1-for-1 Lunch Main Course (Mondays - Thursdays) at Pool Grill Singapore Marriott Tang Plaza Hotel if you are a Singtel customer!. For more information, visit [ https://singpromos.com/dining-restaurants-food/1-for-1-lunch-main-course-at-pool-grill-at-singapore-marriott-tang-plaza-hotel-mon-thur-for-singtel-customers-from-14-mar-30-may-2017-199213/ ]. 
LOCATION:238865
URL:https://singpromos.com/dining-restaurants-food/1-for-1-lunch-main-course-at-pool-grill-at-singapore-marriott-tang-plaza-hotel-mon-thur-for-singtel-customers-from-14-mar-30-may-2017-199213/
END:VEVENT
END:VCALENDAR