BEGIN:VCALENDAR
PRODID:-//SINGPromos.com//NONSGML v1.0//EN
VERSION:2.0
CALSCALE:GREGORIAN
METHOD:PUBLISH
X-WR-CALNAME:SINGPromos.com
X-ORIGINAL-URL:https://singpromos.com
X-WR-CALDESC:Events for SINGPromos.com
BEGIN:VEVENT
DTSTART:20170315T000000
DTEND:20170331T235900
DTSTAMP:20260422T070907
CREATED:20170316T141133
LAST-MODIFIED:20170316T141821
UID:199293@https://singpromos.com
SUMMARY:KFC $3.50 Oishiok Sampler Set coupon deal valid from 15 - 31 Mar 2017
DESCRIPTION:Limited time only! Simply flash this image to enjoy KFC's #Oishiok Sampler Set for only $3.50! The deal consists of 1pc Shoyu Sansho Chicken (drumstick or wing) and 1pc Vanilla Custard Puff. Valid 15-31 Mar 2017, on weekdays only!. For more information, visit [ https://singpromos.com/dining-restaurants-food/kfc-3-50-oishiok-sampler-set-coupon-deal-valid-from-15-31-mar-2017-199293/ ]. 
LOCATION:
URL:https://singpromos.com/dining-restaurants-food/kfc-3-50-oishiok-sampler-set-coupon-deal-valid-from-15-31-mar-2017-199293/
END:VEVENT
END:VCALENDAR